BEGIN:VCALENDAR
PRODID:-//ActOn//iCal4j 1.1//EN
VERSION:2.0
CALSCALE:GREGORIAN
BEGIN:VEVENT
DTSTAMP:20260425T010044Z
DTSTART:20261022T140000Z
DTEND:20261022T200000Z
SUMMARY:APMP Foundation Level Certification Training Class and Exam
DESCRIPTION:APMP Foundation Level Certification Training Class and Exam\nSponsored by APMP Chesapeake Chapter on Thursday\, October 22\, 2026\n\nWebinar\n
UID:AO_EVENT_8576_0131_Field 2
END:VEVENT
END:VCALENDAR
