BEGIN:VCALENDAR
PRODID:-//ActOn//iCal4j 1.1//EN
VERSION:2.0
CALSCALE:GREGORIAN
BEGIN:VEVENT
DTSTAMP:20260425T023546Z
DTSTART:20261201T170000Z
DTEND:20261203T213000Z
SUMMARY:LIVE ONLINE - Capture Management for Federal Contractors Training Class | December 1-3\, 2026 (12:00 pm - 4:30 pm U.S. Eastern each day over 3 days)
DESCRIPTION:LIVE ONLINE - Capture Management for Federal Contractors Training Class | December 1-3\, 2026 (12:00 pm - 4:30 pm U.S. Eastern each day over 3 days)\n\nWebinar - Live Online class - 12:00 pm - 4:30 pm each day over 3 days\n
UID:AO_EVENT_8576_0130_Field 2
END:VEVENT
END:VCALENDAR
