BEGIN:VCALENDAR
PRODID:-//ActOn//iCal4j 1.1//EN
VERSION:2.0
CALSCALE:GREGORIAN
BEGIN:VEVENT
DTSTAMP:20260425T023508Z
DTSTART:20261020T160000Z
DTEND:20261022T203000Z
SUMMARY:LIVE ONLINE - Capture Management for Federal Contractors Training Class | October 20-22\, 2026 (12:00 pm - 4:30 pm U.S. Eastern each day over 3 days)
DESCRIPTION:LIVE ONLINE - Capture Management for Federal Contractors Training Class | October 20-22\, 2026 (12:00 pm - 4:30 pm U.S. Eastern each day over 3 days)\n\nWebinar - Live Online class - 12:00 pm - 4:30 pm each day over 3 days\n
UID:AO_EVENT_8576_012f_Field 2
END:VEVENT
END:VCALENDAR
