BEGIN:VCALENDAR
PRODID:-//ActOn//iCal4j 1.1//EN
VERSION:2.0
CALSCALE:GREGORIAN
BEGIN:VEVENT
DTSTAMP:20260425T041620Z
DTSTART:20261208T170000Z
DTEND:20261210T210000Z
SUMMARY:LIVE ONLINE - Strength-Based Winning for Federal Contractors Training Class | December 8-10\, 2026 (12:00 pm - 4:00 pm U.S. Eastern each day over 3 days)
DESCRIPTION:LIVE ONLINE - Strength-Based Winning for Federal Contractors Training Class | December 8-10\, 2026 (12:00 pm - 4:00 pm U.S. Eastern each day over 3 days)\n\nWebinar - Live Online class - 12:00 pm - 4:00 pm each day over 3 days\n
UID:AO_EVENT_8576_012e_Field 2
END:VEVENT
END:VCALENDAR
