BEGIN:VCALENDAR
PRODID:-//ActOn//iCal4j 1.1//EN
VERSION:2.0
CALSCALE:GREGORIAN
BEGIN:VEVENT
DTSTAMP:20260425T010141Z
DTSTART:20261117T170000Z
DTEND:20261119T170000Z
SUMMARY:LIVE ONLINE - Proposal Management for Federal Contractors Training Class | November 17-19\, 2026 (12:00 pm - 4:00 pm U.S. Eastern each day over 3 days)
DESCRIPTION:LIVE ONLINE - Proposal Management for Federal Contractors Training Class | November 17-19\, 2026 (12:00 pm - 4:00 pm U.S. Eastern each day over 3 days)\n\nWebinar - Live Online class - 12:00 pm - 4:00 pm each day over 3 days\n
UID:AO_EVENT_8576_012c_Field 2
END:VEVENT
END:VCALENDAR
