BEGIN:VCALENDAR
PRODID:-//ActOn//iCal4j 1.1//EN
VERSION:2.0
CALSCALE:GREGORIAN
BEGIN:VEVENT
DTSTAMP:20260425T005320Z
DTSTART:20260728T160000Z
DTEND:20260730T160000Z
SUMMARY:LIVE ONLINE - Proposal Management for Federal Contractors Training Class | July 28-30\, 2026 (12:00 pm - 4:00 pm U.S. Eastern each day over 3 days)
DESCRIPTION:LIVE ONLINE - Proposal Management for Federal Contractors Training Class | July 28-30\, 2026 (12:00 pm - 4:00 pm U.S. Eastern each day over 3 days)\n\nWebinar - Live Online class - 12:00 pm - 4:00 pm each day over 3 days\n
UID:AO_EVENT_8576_012b_Field 2
END:VEVENT
END:VCALENDAR
